BEGIN:VCALENDAR
VERSION:2.0
PRODID:-//Global Allergy and Asthma Excellence Network - ECPv6.15.20//NONSGML v1.0//EN
CALSCALE:GREGORIAN
METHOD:PUBLISH
X-WR-CALNAME:Global Allergy and Asthma Excellence Network
X-ORIGINAL-URL:https://global-allergy.network
X-WR-CALDESC:Events for Global Allergy and Asthma Excellence Network
REFRESH-INTERVAL;VALUE=DURATION:PT1H
X-Robots-Tag:noindex
X-PUBLISHED-TTL:PT1H
BEGIN:VTIMEZONE
TZID:Europe/Berlin
BEGIN:DAYLIGHT
TZOFFSETFROM:+0100
TZOFFSETTO:+0200
TZNAME:CEST
DTSTART:20240331T010000
END:DAYLIGHT
BEGIN:STANDARD
TZOFFSETFROM:+0200
TZOFFSETTO:+0100
TZNAME:CET
DTSTART:20241027T010000
END:STANDARD
BEGIN:DAYLIGHT
TZOFFSETFROM:+0100
TZOFFSETTO:+0200
TZNAME:CEST
DTSTART:20250330T010000
END:DAYLIGHT
BEGIN:STANDARD
TZOFFSETFROM:+0200
TZOFFSETTO:+0100
TZNAME:CET
DTSTART:20251026T010000
END:STANDARD
BEGIN:DAYLIGHT
TZOFFSETFROM:+0100
TZOFFSETTO:+0200
TZNAME:CEST
DTSTART:20260329T010000
END:DAYLIGHT
BEGIN:STANDARD
TZOFFSETFROM:+0200
TZOFFSETTO:+0100
TZNAME:CET
DTSTART:20261025T010000
END:STANDARD
END:VTIMEZONE
BEGIN:VTIMEZONE
TZID:Europe/Copenhagen
BEGIN:DAYLIGHT
TZOFFSETFROM:+0100
TZOFFSETTO:+0200
TZNAME:CEST
DTSTART:20210328T010000
END:DAYLIGHT
BEGIN:STANDARD
TZOFFSETFROM:+0200
TZOFFSETTO:+0100
TZNAME:CET
DTSTART:20211031T010000
END:STANDARD
BEGIN:DAYLIGHT
TZOFFSETFROM:+0100
TZOFFSETTO:+0200
TZNAME:CEST
DTSTART:20220327T010000
END:DAYLIGHT
BEGIN:STANDARD
TZOFFSETFROM:+0200
TZOFFSETTO:+0100
TZNAME:CET
DTSTART:20221030T010000
END:STANDARD
BEGIN:DAYLIGHT
TZOFFSETFROM:+0100
TZOFFSETTO:+0200
TZNAME:CEST
DTSTART:20230326T010000
END:DAYLIGHT
BEGIN:STANDARD
TZOFFSETFROM:+0200
TZOFFSETTO:+0100
TZNAME:CET
DTSTART:20231029T010000
END:STANDARD
BEGIN:DAYLIGHT
TZOFFSETFROM:+0100
TZOFFSETTO:+0200
TZNAME:CEST
DTSTART:20240331T010000
END:DAYLIGHT
BEGIN:STANDARD
TZOFFSETFROM:+0200
TZOFFSETTO:+0100
TZNAME:CET
DTSTART:20241027T010000
END:STANDARD
END:VTIMEZONE
BEGIN:VEVENT
DTSTART;TZID=Europe/Berlin:20250306T130000
DTEND;TZID=Europe/Berlin:20250306T130000
DTSTAMP:20260422T160902
CREATED:20250218T111456Z
LAST-MODIFIED:20250228T142249Z
UID:7914-1741266000-1741266000@global-allergy.network
SUMMARY:Global Education Day @ AAD Annual Meeting in Orlando\, Florida - 6th March 2025
DESCRIPTION:Join ADCARE at the AAD Global Education Day in Orlando Florida. ADCARE/UCARE Session: Updates in Atopic Dermatitis\, Alopecia Areata\, and Urticaria Management. This program will empower healthcare providers with the knowledge and tools necessary to improve the management of atopic dermatitis\, alopecia areata\, and urticaria. By addressing critical gaps in understanding and practice\, it will contribute tobetter patient outcomes and drive progress in the field of dermatology and collaboration through the Global Allergy & Asthma Excellence Network. \n\n\n\nGlobal Educational Day of Dermatology at the 2025 AAD Annual Meeting is an opportunity for international societies to hold an independent educational session the day before the official start of the AAD Annual Meeting on Thursday\, March 6\, 2025. \n\n\n\nThese unique sessions provide international societies the opportunity to highlight their members’ work and network with fellow dermatologists from around the world.
URL:https://global-allergy.network/event/global-education-day-aad-annual-meeting-in-orlando-florida-6th-march-2025/
LOCATION:The Orange County Convention Center\, 9800 International Dr. Orlando\, FL 32819
CATEGORIES:Event,Symposium
ATTACH;FMTTYPE=image/png:https://global-allergy.network/wp-content/uploads/2025/02/AAD-Email-Footer.png
END:VEVENT
BEGIN:VEVENT
DTSTART;TZID=Europe/Copenhagen:20230901T000000
DTEND;TZID=Europe/Copenhagen:20230902T235959
DTSTAMP:20260422T160902
CREATED:20241001T123729Z
LAST-MODIFIED:20251203T015827Z
UID:6144-1693526400-1693699199@global-allergy.network
SUMMARY:Masterclass on Anaphylaxis
DESCRIPTION:We kindly invite you to take part in the Masterclass on Anaphylaxis\, which will be held in Padua\, Italy at the Palazzo della Salute. \nPlease find the Preliminary Masterclass Program here. \nPlease kindly find the link to our Registration Form here\, 70 seats available first-come\, first-served basis: \nhttps://forms.gle/N4C63qUvTvmdyXGj6 \nWhat are the aims of the Global Allergy and Asthma Excellence Network ANACARE Masterclass?\nWith this holistic forum educational event\, we aim to fill the gaps in knowledge on anaphylaxis and on training for managing the acute episode with live educational events located in Padua. The Masterclass will leverage on International guidelines on Anaphylaxis and continue the success of GAFA 2022. \nA global panel of Key Opinion Leaders have been chosen for the ANACARE Scientific Committee and Faculty to fully cover the broad range of disease issues that will be highlighted during this comprehensive 2-day event. \nLocal Experts will also be invited to join the Faculty on the grounds of their renowned up-to-date knowledge. You are cordially invited to be an active part of this highly valued educational ANACARE Masterclass 2023. \nWhat can I expect to receive as a delegate attending the Masterclass?\nAll registered delegates will receive a full inclusive delegate package: \n● All delegate accommodation and meals during the educational event● learning packs including all educational material and digital material● interactive delegate self-evaluation at the beginning of the event and on the last day of event● participation in hands-on workshops during the educational event● interactive Q&A sessions with KOLs● Certificate of Attendance showing supporting sponsors logos● ANACARE Diploma of Knowledge (70% pass rate) \nWhat is the ANACARE Diploma of Excellence?\nThe learning program incorporates all various sections of this area of disease to give the Health Care Provider (HCP) a holistic approach to anaphylaxis which they can immediately put into practice in their daily healthcare setting.Interactive participation from HCPs will allow for self-evaluation of knowledge with the ANACARE Knowledge exam. Participants answer questions in an exam format to self-evaluate their own current knowledge at the very beginning of the event. At the end of the second day\, participants will again undergo an exam format to self-evaluate their knowledge to show the direct impact of the education given and their knowledge gain. Participants who successfully pass the ANACARE Knowledge exam on the second day (70% pass mark) will receive a ANACARE Diploma of Excellence (DOE) knowledge certificate. \nWe would be delighted to welcome you the ANACARE Masterclass 2023 in beautiful Padua\, Italy!
URL:https://global-allergy.network/event/ga%c2%b2len-masterclass-on-anaphylaxis/
CATEGORIES:Event
END:VEVENT
BEGIN:VEVENT
DTSTART;TZID=Europe/Copenhagen:20220901T000000
DTEND;TZID=Europe/Copenhagen:20220901T235959
DTSTAMP:20260422T160902
CREATED:20240525T123537Z
LAST-MODIFIED:20250312T142037Z
UID:2114-1661990400-1662076799@global-allergy.network
SUMMARY:GAFA Hybrid Delegate
DESCRIPTION:Come and join us online! GAFA 2022 is hybrid – so register now and make sure you don’t miss out. Streaming starts live from Padua on 1st September.\n\nGAFA Online Delegate FREE registration NOW OPEN: gafa2022.myquadra.it
URL:https://global-allergy.network/event/gafa-hybrid-delegate/
CATEGORIES:Event
END:VEVENT
END:VCALENDAR