BEGIN:VCALENDAR
VERSION:2.0
PRODID:-//Global Allergy and Asthma Excellence Network - ECPv6.15.20//NONSGML v1.0//EN
CALSCALE:GREGORIAN
METHOD:PUBLISH
X-WR-CALNAME:Global Allergy and Asthma Excellence Network
X-ORIGINAL-URL:https://global-allergy.network
X-WR-CALDESC:Events for Global Allergy and Asthma Excellence Network
REFRESH-INTERVAL;VALUE=DURATION:PT1H
X-Robots-Tag:noindex
X-PUBLISHED-TTL:PT1H
BEGIN:VTIMEZONE
TZID:Europe/Berlin
BEGIN:DAYLIGHT
TZOFFSETFROM:+0100
TZOFFSETTO:+0200
TZNAME:CEST
DTSTART:20240331T010000
END:DAYLIGHT
BEGIN:STANDARD
TZOFFSETFROM:+0200
TZOFFSETTO:+0100
TZNAME:CET
DTSTART:20241027T010000
END:STANDARD
BEGIN:DAYLIGHT
TZOFFSETFROM:+0100
TZOFFSETTO:+0200
TZNAME:CEST
DTSTART:20250330T010000
END:DAYLIGHT
BEGIN:STANDARD
TZOFFSETFROM:+0200
TZOFFSETTO:+0100
TZNAME:CET
DTSTART:20251026T010000
END:STANDARD
BEGIN:DAYLIGHT
TZOFFSETFROM:+0100
TZOFFSETTO:+0200
TZNAME:CEST
DTSTART:20260329T010000
END:DAYLIGHT
BEGIN:STANDARD
TZOFFSETFROM:+0200
TZOFFSETTO:+0100
TZNAME:CET
DTSTART:20261025T010000
END:STANDARD
END:VTIMEZONE
BEGIN:VTIMEZONE
TZID:Europe/Copenhagen
BEGIN:DAYLIGHT
TZOFFSETFROM:+0100
TZOFFSETTO:+0200
TZNAME:CEST
DTSTART:20120325T010000
END:DAYLIGHT
BEGIN:STANDARD
TZOFFSETFROM:+0200
TZOFFSETTO:+0100
TZNAME:CET
DTSTART:20121028T010000
END:STANDARD
BEGIN:DAYLIGHT
TZOFFSETFROM:+0100
TZOFFSETTO:+0200
TZNAME:CEST
DTSTART:20130331T010000
END:DAYLIGHT
BEGIN:STANDARD
TZOFFSETFROM:+0200
TZOFFSETTO:+0100
TZNAME:CET
DTSTART:20131027T010000
END:STANDARD
BEGIN:DAYLIGHT
TZOFFSETFROM:+0100
TZOFFSETTO:+0200
TZNAME:CEST
DTSTART:20140330T010000
END:DAYLIGHT
BEGIN:STANDARD
TZOFFSETFROM:+0200
TZOFFSETTO:+0100
TZNAME:CET
DTSTART:20141026T010000
END:STANDARD
BEGIN:DAYLIGHT
TZOFFSETFROM:+0100
TZOFFSETTO:+0200
TZNAME:CEST
DTSTART:20150329T010000
END:DAYLIGHT
BEGIN:STANDARD
TZOFFSETFROM:+0200
TZOFFSETTO:+0100
TZNAME:CET
DTSTART:20151025T010000
END:STANDARD
BEGIN:DAYLIGHT
TZOFFSETFROM:+0100
TZOFFSETTO:+0200
TZNAME:CEST
DTSTART:20160327T010000
END:DAYLIGHT
BEGIN:STANDARD
TZOFFSETFROM:+0200
TZOFFSETTO:+0100
TZNAME:CET
DTSTART:20161030T010000
END:STANDARD
BEGIN:DAYLIGHT
TZOFFSETFROM:+0100
TZOFFSETTO:+0200
TZNAME:CEST
DTSTART:20170326T010000
END:DAYLIGHT
BEGIN:STANDARD
TZOFFSETFROM:+0200
TZOFFSETTO:+0100
TZNAME:CET
DTSTART:20171029T010000
END:STANDARD
BEGIN:DAYLIGHT
TZOFFSETFROM:+0100
TZOFFSETTO:+0200
TZNAME:CEST
DTSTART:20180325T010000
END:DAYLIGHT
BEGIN:STANDARD
TZOFFSETFROM:+0200
TZOFFSETTO:+0100
TZNAME:CET
DTSTART:20181028T010000
END:STANDARD
BEGIN:DAYLIGHT
TZOFFSETFROM:+0100
TZOFFSETTO:+0200
TZNAME:CEST
DTSTART:20190331T010000
END:DAYLIGHT
BEGIN:STANDARD
TZOFFSETFROM:+0200
TZOFFSETTO:+0100
TZNAME:CET
DTSTART:20191027T010000
END:STANDARD
BEGIN:DAYLIGHT
TZOFFSETFROM:+0100
TZOFFSETTO:+0200
TZNAME:CEST
DTSTART:20200329T010000
END:DAYLIGHT
BEGIN:STANDARD
TZOFFSETFROM:+0200
TZOFFSETTO:+0100
TZNAME:CET
DTSTART:20201025T010000
END:STANDARD
BEGIN:DAYLIGHT
TZOFFSETFROM:+0100
TZOFFSETTO:+0200
TZNAME:CEST
DTSTART:20210328T010000
END:DAYLIGHT
BEGIN:STANDARD
TZOFFSETFROM:+0200
TZOFFSETTO:+0100
TZNAME:CET
DTSTART:20211031T010000
END:STANDARD
BEGIN:DAYLIGHT
TZOFFSETFROM:+0100
TZOFFSETTO:+0200
TZNAME:CEST
DTSTART:20220327T010000
END:DAYLIGHT
BEGIN:STANDARD
TZOFFSETFROM:+0200
TZOFFSETTO:+0100
TZNAME:CET
DTSTART:20221030T010000
END:STANDARD
BEGIN:DAYLIGHT
TZOFFSETFROM:+0100
TZOFFSETTO:+0200
TZNAME:CEST
DTSTART:20230326T010000
END:DAYLIGHT
BEGIN:STANDARD
TZOFFSETFROM:+0200
TZOFFSETTO:+0100
TZNAME:CET
DTSTART:20231029T010000
END:STANDARD
BEGIN:DAYLIGHT
TZOFFSETFROM:+0100
TZOFFSETTO:+0200
TZNAME:CEST
DTSTART:20240331T010000
END:DAYLIGHT
BEGIN:STANDARD
TZOFFSETFROM:+0200
TZOFFSETTO:+0100
TZNAME:CET
DTSTART:20241027T010000
END:STANDARD
END:VTIMEZONE
BEGIN:VEVENT
DTSTART;TZID=Europe/Berlin:20250306T130000
DTEND;TZID=Europe/Berlin:20250306T130000
DTSTAMP:20260423T183609
CREATED:20250218T111456Z
LAST-MODIFIED:20250228T142249Z
UID:7914-1741266000-1741266000@global-allergy.network
SUMMARY:Global Education Day @ AAD Annual Meeting in Orlando\, Florida - 6th March 2025
DESCRIPTION:Join ADCARE at the AAD Global Education Day in Orlando Florida. ADCARE/UCARE Session: Updates in Atopic Dermatitis\, Alopecia Areata\, and Urticaria Management. This program will empower healthcare providers with the knowledge and tools necessary to improve the management of atopic dermatitis\, alopecia areata\, and urticaria. By addressing critical gaps in understanding and practice\, it will contribute tobetter patient outcomes and drive progress in the field of dermatology and collaboration through the Global Allergy & Asthma Excellence Network. \n\n\n\nGlobal Educational Day of Dermatology at the 2025 AAD Annual Meeting is an opportunity for international societies to hold an independent educational session the day before the official start of the AAD Annual Meeting on Thursday\, March 6\, 2025. \n\n\n\nThese unique sessions provide international societies the opportunity to highlight their members’ work and network with fellow dermatologists from around the world.
URL:https://global-allergy.network/event/global-education-day-aad-annual-meeting-in-orlando-florida-6th-march-2025/
LOCATION:The Orange County Convention Center\, 9800 International Dr. Orlando\, FL 32819
CATEGORIES:Event,Symposium
ATTACH;FMTTYPE=image/png:https://global-allergy.network/wp-content/uploads/2025/02/AAD-Email-Footer.png
END:VEVENT
BEGIN:VEVENT
DTSTART;TZID=Europe/Copenhagen:20230420T000000
DTEND;TZID=Europe/Copenhagen:20230422T235959
DTSTAMP:20260423T183609
CREATED:20240525T122825Z
LAST-MODIFIED:20250131T071803Z
UID:2109-1681948800-1682207999@global-allergy.network
SUMMARY:ANACARE & NORA Joint Symposium
DESCRIPTION:We welcome you to the ANACARE & NORA Joint Spring Symposium in Berlin\, 20.-22 April 2023. \nThe Spring Joint Symposium will include:\n\nFollow-up Sessions from GAFA 2022\nHotel & Event Location: TITANIC Hotel Berlin\n120 KOLs\nWorking Groups\, Plenary Sessions\nLatest Findings from the European Registry\nAll recent developements on anaphylaxis and Food Allergy\n\nSpring Symposium 2023 – Registration\nANACARE Invited Workgroup Participant Registration \nANACARE Center Member Registration \nIndustry Partner Registration \nWhat is the Spring Joint Symposium 2023?\nThe 1st ANACARE Food Allergy and Anaphylaxis Network of Centres of Excellence in its Food allergy and Anaphylaxis Forum held in Padua 2022 highlighted the important and urgent topics on food allergy and anaphylaxis that should be addresses timely. Working groups have been approved with the aim to draft consensus and evidence-based recommendations to ultimately establish an integrated care pathway of food allergy and anaphylaxis harmonizing diagnosis and management of food allergy and anaphylaxis across the Centres network and in the allergist’s daily practice. \nIn 2023\, ANACARE will join the NORA European Registry of Anaphylaxis in a Spring Meeting that will be held from Thursday 20th April to Saturday 22nd April. In this Spring Joint Meeting the ANACARE Working groups will get together to discuss the recommendations draft leveraging on International Guidelines on Anaphylaxis and the ANACARE Guidelines on Food Allergy Management that were vrecently published.
URL:https://global-allergy.network/event/anacare-nora-joint-symposium/
CATEGORIES:Symposium
END:VEVENT
BEGIN:VEVENT
DTSTART;TZID=Europe/Copenhagen:20180529T133000
DTEND;TZID=Europe/Copenhagen:20180529T150000
DTSTAMP:20260423T183609
CREATED:20230504T114244Z
LAST-MODIFIED:20241222T112047Z
UID:2298-1527600600-1527606000@global-allergy.network
SUMMARY:EAACI Global Allergy and Asthma Excellence Network Sister Symposium Munich 2018
DESCRIPTION:The Global Allergy and Asthma Excellence Network honoured to be holding yet another EAACI Sister Symposium this year in Munich. On Tuesday\, 29.05.2018 – 13:30 – 15:00\, we will hold it’s Symposium focussing on The POLLAR Project\, The CURE Project\, the EUFOREA Project and the Global Allergy and Asthma Excellence Network Chamber Project. Please do make sure to join us as entrance is free to all.
URL:https://global-allergy.network/event/eaaci-sister-symposium-munich-2018/
CATEGORIES:Symposium
END:VEVENT
BEGIN:VEVENT
DTSTART;TZID=Europe/Copenhagen:20150608T154500
DTEND;TZID=Europe/Copenhagen:20150608T171500
DTSTAMP:20260423T183609
CREATED:20230504T113325Z
LAST-MODIFIED:20241222T105728Z
UID:2291-1433778300-1433783700@global-allergy.network
SUMMARY:Global Network Of Excellence Symposium: Novel tools to access the burden of allergic disease in clinical trials and for society
DESCRIPTION:Date: 08.06.2015\nTime: 15:45 – 17:15\nLocation: Room 114\nOpen for everyone \nChair: Nikos Papadopoulos (Greece)\nChair: Carsten Bindslev-Jensen (Denmark) \nMeDALL – Insights from European birth cohorts\n15:45 – 16:07 Josep M. Antó (Spain) \nMeDALL – What epigenetics can teach us in better understanding the prevalence of increase in allergies 16:07 – 16:29 Gerard Koppelman (Netherlands) \nPreDicta – Airway allergies: Novel chips for allergens and virus components\n16:29 – 16:51 Rudolf Valenta (Austria) \nNovel tools to access the burden of allergic disease in clinical trials and for society\n16:51 – 17:13 Torsten Zuberbier (Germany)
URL:https://global-allergy.network/event/symposium-novel-tools-to-access-the-burden-of-allergic-disease-in-clinical-trials-and-for-society/
CATEGORIES:Symposium
END:VEVENT
BEGIN:VEVENT
DTSTART;TZID=Europe/Copenhagen:20130623T133000
DTEND;TZID=Europe/Copenhagen:20130623T150000
DTSTAMP:20260423T183609
CREATED:20230504T120306Z
LAST-MODIFIED:20250130T150235Z
UID:2322-1371994200-1371999600@global-allergy.network
SUMMARY:Symposium EAACI-WAO Congress 2013
DESCRIPTION:Sunday\, 23.06.2013 – 13.30 – 15.00 – Blue 1 \nThe Global Allergy and Asthma Excellence Network is proud to be able to hold a Symposium at the EAACI-WAO Congress 2013 in Milan this year. \nThe Global Allergy and Asthma Excellence Network Symposium will be held on 23rd June 2013 and is entitled “The collaborative future and building novel concepts in allergy and asthma”. \nMore information to follow soon. \nWe look forward to seeing you and being able to welcome you to our Symposium at EAACI-WAO 2013 in Milan!
URL:https://global-allergy.network/event/symposium-eaaci-wao-congress-2013/
CATEGORIES:Symposium
END:VEVENT
END:VCALENDAR